BEGIN:VCALENDAR
VERSION:2.0
PRODID:-//Ausfunk Cheer &amp; Dance - ECPv6.15.20//NONSGML v1.0//EN
CALSCALE:GREGORIAN
METHOD:PUBLISH
X-WR-CALNAME:Ausfunk Cheer &amp; Dance
X-ORIGINAL-URL:https://ausfunk.com.au
X-WR-CALDESC:Events for Ausfunk Cheer &amp; Dance
REFRESH-INTERVAL;VALUE=DURATION:PT1H
X-Robots-Tag:noindex
X-PUBLISHED-TTL:PT1H
BEGIN:VTIMEZONE
TZID:Australia/Brisbane
BEGIN:STANDARD
TZOFFSETFROM:+1000
TZOFFSETTO:+1000
TZNAME:AEST
DTSTART:20250101T000000
END:STANDARD
END:VTIMEZONE
BEGIN:VEVENT
DTSTART;VALUE=DATE:20260420
DTEND;VALUE=DATE:20260421
DTSTAMP:20260420T021559
CREATED:20260113T071105Z
LAST-MODIFIED:20260113T071211Z
UID:27751-1776643200-1776729599@ausfunk.com.au
SUMMARY:Term 2 Starts
DESCRIPTION:
URL:https://ausfunk.com.au/event/term-2-starts/
LOCATION:Ausfunk Cheer & Dance – Kuluin\, 4/13-15 Fishermans Rd\, Kuluin
CATEGORIES:Timetable
ATTACH;FMTTYPE=image/jpeg:https://ausfunk.com.au/wp-content/uploads/2026/01/TERM-2-DATES.jpg
END:VEVENT
BEGIN:VEVENT
DTSTART;VALUE=DATE:20260420
DTEND;VALUE=DATE:20260425
DTSTAMP:20260420T021559
CREATED:20260113T050715Z
LAST-MODIFIED:20260113T050715Z
UID:27650-1776643200-1777075199@ausfunk.com.au
SUMMARY:Uniform & Costume Sizing Week
DESCRIPTION:
URL:https://ausfunk.com.au/event/uniform-costume-sizing-week/
LOCATION:Ausfunk Cheer & Dance – Kuluin\, 4/13-15 Fishermans Rd\, Kuluin
CATEGORIES:Term Dates
ATTACH;FMTTYPE=image/jpeg:https://ausfunk.com.au/wp-content/uploads/2026/01/2026-Costume-Uniform-sizing-week.jpg
END:VEVENT
END:VCALENDAR